BEGIN:VCALENDAR
VERSION:2.0
PRODID:-//Imagine Outdoors - ECPv6.11.2.1//NONSGML v1.0//EN
CALSCALE:GREGORIAN
METHOD:PUBLISH
X-ORIGINAL-URL:https://imagineoutdoors.com
X-WR-CALDESC:Events for Imagine Outdoors
REFRESH-INTERVAL;VALUE=DURATION:PT1H
X-Robots-Tag:noindex
X-PUBLISHED-TTL:PT1H
BEGIN:VTIMEZONE
TZID:America/Chicago
BEGIN:DAYLIGHT
TZOFFSETFROM:-0600
TZOFFSETTO:-0500
TZNAME:CDT
DTSTART:20260308T080000
END:DAYLIGHT
BEGIN:STANDARD
TZOFFSETFROM:-0500
TZOFFSETTO:-0600
TZNAME:CST
DTSTART:20261101T070000
END:STANDARD
END:VTIMEZONE
BEGIN:VEVENT
DTSTART;TZID=America/Chicago:20260922T090000
DTEND;TZID=America/Chicago:20260922T163000
DTSTAMP:20260421T091421
CREATED:20260419T070626Z
LAST-MODIFIED:20260419T070626Z
UID:25989845-1790067600-1790094600@imagineoutdoors.com
SUMMARY:Wild & Wonderful: A Fall Foraging Retreat
DESCRIPTION:ABOUT THIS EVENT\nJoin Maria Wesserle of Four Season Foraging and Jaime Rockney of Chick of the Woods for a day of foraging fun! Learn all about edible fall goodies in the woods! The morning will be focused on all things plants! Maria will teach us about plants\, berries\, and nuts that are in season followed by a walk in the woods finding\, identifying\, harvesting\, and even tasting some forest delicacies like white pine infused switchel.\nA home-style lunch will follow and will be included with your ticket.\nThe afternoon will be mushroom-centric with a presentation by Chick of the Woods on common edible fall mushrooms\, a tasting of wild mushroom jerky and pickled mushrooms\, followed by a walk in the woods searching for\, talking about\, and picking the mushrooms we find.  \nAPPROXIMATE ITINERARY\n9-9:15am Registration\n9:15-10:15am – Plant Talk\n10:30-10:45am – Break\n10:30-12:15pm – Plant Walk\n12:15-1:15pm – Lunch (included with ticket)\n1:30-2:30pm – Mushroom Talk\n2:30-2:45pm – Break\n2:45-4:15pm – Mushroom Walk\n4:15-4:30pm – Wrap Up and Review  \nThe mushroom presentation may cover mushroom like hen of the woods\, shrimp of the woods\, honey mushrooms\, resinous polypore\, velvet foot\, elm oysters\, as well as potential look-alikes and poisonous mushrooms. But we may encounter and discuss other species in the woods! The plant presentation will discuss hackberry\, crab apple\, stinging nettle\, wild grapes\, black nightshade\, and white pine. There will be many other plants to learn about in the surrounding landscape.  \nABOUT THE INSTRUCTORS\nMaria Wesserle has been gathering wild edibles since 2004 and loves sharing this skill with others. She has spent over 15 years organizing and teaching foraging programs in the Upper Midwest. Through her business Four Season Foraging\, she offers sliding scale foraging workshops\, creating spaces where people can learn to interact with urban and rural environments in meaningful and sustainable ways. She is a certified wild mushroom harvester in the state of Minnesota and holds certificates for Level III Trailing and Professional Track & Sign from CyberTracker North America.\nJaime Rockney\, also known as Chick of the Woods\, loves nothing more than sharing her passion of the forest and fungi with others. In doing so\, she hopes they will gain appreciation for the fascinating world within the forest. She has been obsessed with foraging since 2008 and started Chick of the Woods Foraging\, LLC in 2019. She is a member of the Minnesota Mycological Society\, Wisconsin Mycological Society\, the North American Mycological Association\, and has three certifications for identification of and selling mushrooms.  \nREGISTRATION\nRegister by August 22nd. If you are reading this after August 22nd\, please contact us to see if space is still available. Class will be canceled if minimum registration is not met.\nClass will happen rain or shine. In the event of severe weather\, the class will be held completely indoors.\nCost is $160.\nSuggested age 14 and up. You must be 18 to register. People age 17 and under are welcome as long as they are accompanied by an adult; that adult should register on their behalf. Minors pay the same price as adults.
URL:https://imagineoutdoors.com/event/wild-wonderful-a-fall-foraging-retreat-2/
LOCATION:Ainsley Sutton Lodge Retreat Center\, 1680 373rd Ave NE\, Stanchfield\, MN\, United States
CATEGORIES:Class,Event,Forays
ATTACH;FMTTYPE=image/jpeg:https://imagineoutdoors.com/wp-content/uploads/2025/03/PXL_20230607_192413965.MP-2-q1ZL1M.tmp_.jpg
ORGANIZER;CN="Chick of the Woods":MAILTO:chickofthewoodsforaging@gmail.com
END:VEVENT
END:VCALENDAR